BEGIN:VCALENDAR
VERSION:2.0
PRODID:-//Roesalka - ECPv5.9.0//NONSGML v1.0//EN
CALSCALE:GREGORIAN
METHOD:PUBLISH
X-WR-CALNAME:Roesalka
X-ORIGINAL-URL:https://roesalka.nl/en
X-WR-CALDESC:Evenementen voor Roesalka
BEGIN:VTIMEZONE
TZID:UTC
BEGIN:STANDARD
TZOFFSETFROM:+0000
TZOFFSETTO:+0000
TZNAME:UTC
DTSTART:20230101T000000
END:STANDARD
END:VTIMEZONE
BEGIN:VEVENT
DTSTART;TZID=UTC:20231102T200000
DTEND;TZID=UTC:20231102T213000
DTSTAMP:20260422T141022
CREATED:20231031T170510Z
LAST-MODIFIED:20231031T170510Z
UID:1073-1698955200-1698960600@roesalka.nl
SUMMARY:(Nederlands) Algemene Ledenvergadering 2023
DESCRIPTION:Sorry\, this entry is only available in Dutch.
URL:https://roesalka.nl/en/event/algemene-ledenvergadering-2023/
LOCATION:Cultuurcentrum Hasselo\, Hengelo
END:VEVENT
END:VCALENDAR