BEGIN:VCALENDAR
VERSION:2.0
PRODID:-//Roesalka - ECPv5.9.0//NONSGML v1.0//EN
CALSCALE:GREGORIAN
METHOD:PUBLISH
X-WR-CALNAME:Roesalka
X-ORIGINAL-URL:https://roesalka.nl
X-WR-CALDESC:Evenementen voor Roesalka
BEGIN:VTIMEZONE
TZID:UTC
BEGIN:STANDARD
TZOFFSETFROM:+0000
TZOFFSETTO:+0000
TZNAME:UTC
DTSTART:20180101T000000
END:STANDARD
END:VTIMEZONE
BEGIN:VEVENT
DTSTART;TZID=UTC:20180912T200000
DTEND;TZID=UTC:20180912T220000
DTSTAMP:20260422T124743
CREATED:20180801T205131Z
LAST-MODIFIED:20180801T205131Z
UID:800-1536782400-1536789600@roesalka.nl
SUMMARY:Algemene ledenvergadering
DESCRIPTION:
URL:https://roesalka.nl/event/algemene-ledenvergadering/
END:VEVENT
END:VCALENDAR