BEGIN:VCALENDAR
VERSION:2.0
PRODID:-//Roesalka - ECPv5.9.0//NONSGML v1.0//EN
CALSCALE:GREGORIAN
METHOD:PUBLISH
X-WR-CALNAME:Roesalka
X-ORIGINAL-URL:https://roesalka.nl
X-WR-CALDESC:Evenementen voor Roesalka
BEGIN:VTIMEZONE
TZID:UTC
BEGIN:STANDARD
TZOFFSETFROM:+0000
TZOFFSETTO:+0000
TZNAME:UTC
DTSTART:20180101T000000
END:STANDARD
END:VTIMEZONE
BEGIN:VEVENT
DTSTART;TZID=UTC:20180110T193000
DTEND;TZID=UTC:20180110T223000
DTSTAMP:20260422T142138
CREATED:20170928T183622Z
LAST-MODIFIED:20170928T183622Z
UID:698-1515612600-1515623400@roesalka.nl
SUMMARY:KVG Vrouwengilde Glanerbrug
DESCRIPTION:Avondvullend programma
URL:https://roesalka.nl/event/kvg-vrouwengilde-glanerbrug/
END:VEVENT
END:VCALENDAR