BEGIN:VCALENDAR
VERSION:2.0
PRODID:-//Roesalka - ECPv5.9.0//NONSGML v1.0//EN
CALSCALE:GREGORIAN
METHOD:PUBLISH
X-WR-CALNAME:Roesalka
X-ORIGINAL-URL:https://roesalka.nl
X-WR-CALDESC:Evenementen voor Roesalka
BEGIN:VTIMEZONE
TZID:UTC
BEGIN:STANDARD
TZOFFSETFROM:+0000
TZOFFSETTO:+0000
TZNAME:UTC
DTSTART:20170101T000000
END:STANDARD
END:VTIMEZONE
BEGIN:VEVENT
DTSTART;VALUE=DATE:20171001
DTEND;VALUE=DATE:20171002
DTSTAMP:20260422T124558
CREATED:20170925T193739Z
LAST-MODIFIED:20170928T184628Z
UID:677-1506816000-1506902399@roesalka.nl
SUMMARY:Vernieuwde website
DESCRIPTION:Op 1 oktober gaat de nieuwe website live. Geef je reactie in het gastenboek. Samen maken we de website nog beter. \nEen website is niet statisch. Door steeds opnieuw de website te voorzien van actuele informatie\, zoals informatie over de trainingsavonden\, en met input van jullie allemaal kan de website het uithangbord en visitekaartje van Roesalka worden.
URL:https://roesalka.nl/event/vernieuwde-website/
END:VEVENT
END:VCALENDAR