BEGIN:VCALENDAR
VERSION:2.0
PRODID:-//Roesalka - ECPv5.9.0//NONSGML v1.0//EN
CALSCALE:GREGORIAN
METHOD:PUBLISH
X-WR-CALNAME:Roesalka
X-ORIGINAL-URL:https://roesalka.nl/ua
X-WR-CALDESC:Evenementen voor Roesalka
BEGIN:VTIMEZONE
TZID:UTC
BEGIN:STANDARD
TZOFFSETFROM:+0000
TZOFFSETTO:+0000
TZNAME:UTC
DTSTART:20180101T000000
END:STANDARD
END:VTIMEZONE
BEGIN:VEVENT
DTSTART;TZID=UTC:20180114T140000
DTEND;TZID=UTC:20180114T190000
DTSTAMP:20260422T143623
CREATED:20170928T184122Z
LAST-MODIFIED:20170928T184122Z
UID:700-1515938400-1515956400@roesalka.nl
SUMMARY:(Nederlands) Nieuwjaarsfeest 2018
DESCRIPTION:Вибачте цей текст доступний тільки в “Голландська”.
URL:https://roesalka.nl/ua/event/nieuwjaarsfeest-2018/
END:VEVENT
END:VCALENDAR