BEGIN:VCALENDAR
VERSION:2.0
PRODID:-//Roesalka - ECPv5.9.0//NONSGML v1.0//EN
CALSCALE:GREGORIAN
METHOD:PUBLISH
X-WR-CALNAME:Roesalka
X-ORIGINAL-URL:https://roesalka.nl/ua
X-WR-CALDESC:Evenementen voor Roesalka
BEGIN:VTIMEZONE
TZID:UTC
BEGIN:STANDARD
TZOFFSETFROM:+0000
TZOFFSETTO:+0000
TZNAME:UTC
DTSTART:20170101T000000
END:STANDARD
END:VTIMEZONE
BEGIN:VEVENT
DTSTART;TZID=UTC:20171011T200000
DTEND;TZID=UTC:20171011T220000
DTSTAMP:20260422T142735
CREATED:20170925T192745Z
LAST-MODIFIED:20170925T193140Z
UID:673-1507752000-1507759200@roesalka.nl
SUMMARY:(Nederlands) Trainingsavond: Dans
DESCRIPTION:
URL:https://roesalka.nl/ua/event/trainingsavond-dans-2/
LOCATION:Cultuurcentrum Hasselo\, Hengelo
END:VEVENT
END:VCALENDAR